BEGIN:VCALENDAR
VERSION:2.0
PRODID:-//SMK PATRIA WISATA - ECPv6.7.1//NONSGML v1.0//EN
CALSCALE:GREGORIAN
METHOD:PUBLISH
X-WR-CALNAME:SMK PATRIA WISATA
X-ORIGINAL-URL:https://smk-patriawisata.sch.id
X-WR-CALDESC:Events for SMK PATRIA WISATA
REFRESH-INTERVAL;VALUE=DURATION:PT1H
X-Robots-Tag:noindex
X-PUBLISHED-TTL:PT1H
BEGIN:VTIMEZONE
TZID:Asia/Jakarta
BEGIN:STANDARD
TZOFFSETFROM:+0700
TZOFFSETTO:+0700
TZNAME:WIB
DTSTART:20210101T000000
END:STANDARD
END:VTIMEZONE
BEGIN:VEVENT
DTSTART;TZID=Asia/Jakarta:20220314T070000
DTEND;TZID=Asia/Jakarta:20220317T000000
DTSTAMP:20260425T173909
CREATED:20220224T053646Z
LAST-MODIFIED:20220225T122253Z
UID:1363-1647241200-1647475200@smk-patriawisata.sch.id
SUMMARY:Ujian Sekolah Kelas XII
DESCRIPTION:
URL:https://smk-patriawisata.sch.id/event/uts/
CATEGORIES:School
END:VEVENT
BEGIN:VEVENT
DTSTART;TZID=Asia/Jakarta:20220307T070000
DTEND;TZID=Asia/Jakarta:20220311T123000
DTSTAMP:20260425T173909
CREATED:20220216T093556Z
LAST-MODIFIED:20220225T030445Z
UID:1254-1646636400-1647001800@smk-patriawisata.sch.id
SUMMARY:Penilaian Tengah Semester
DESCRIPTION:
URL:https://smk-patriawisata.sch.id/event/tryout-ujian-bersama/
CATEGORIES:School,Ujian Bersama
ATTACH;FMTTYPE=image/jpeg:https://smk-patriawisata.sch.id/wp-content/uploads/2022/02/tryout01.jpg
END:VEVENT
BEGIN:VEVENT
DTSTART;TZID=Asia/Jakarta:20220305T080000
DTEND;TZID=Asia/Jakarta:20220305T170000
DTSTAMP:20260425T173909
CREATED:20220225T122359Z
LAST-MODIFIED:20220225T122359Z
UID:1417-1646467200-1646499600@smk-patriawisata.sch.id
SUMMARY:Ujian LSP
DESCRIPTION:
URL:https://smk-patriawisata.sch.id/event/ujian-lsp/
CATEGORIES:School
END:VEVENT
BEGIN:VEVENT
DTSTART;TZID=Asia/Jakarta:20220214T070000
DTEND;TZID=Asia/Jakarta:20220225T170000
DTSTAMP:20260425T173909
CREATED:20220223T001713Z
LAST-MODIFIED:20220225T031303Z
UID:1361-1644822000-1645808400@smk-patriawisata.sch.id
SUMMARY:Ujian Praktik Kelas XII
DESCRIPTION:
URL:https://smk-patriawisata.sch.id/event/gladi-ujian-bersama/
CATEGORIES:School,Ujian Bersama
END:VEVENT
BEGIN:VEVENT
DTSTART;VALUE=DATE:20220208
DTEND;VALUE=DATE:20220212
DTSTAMP:20260425T173909
CREATED:20170208T054325Z
LAST-MODIFIED:20220216T092656Z
UID:729-1644278400-1644623999@smk-patriawisata.sch.id
SUMMARY:Pelatihan Guru
DESCRIPTION:Pelatihan komptensi untuk guru patria di bidang marketing digital. Diharapkan dengan pelatihan tersebut para guru dapat turut membantu marketing secara digital.
URL:https://smk-patriawisata.sch.id/event/pelatihan-guru/
CATEGORIES:School
ATTACH;FMTTYPE=image/jpeg:https://smk-patriawisata.sch.id/wp-content/uploads/2017/02/even01.jpg
END:VEVENT
BEGIN:VEVENT
DTSTART;TZID=Asia/Jakarta:20220101T031100
DTEND;TZID=Asia/Jakarta:20220101T080000
DTSTAMP:20260425T173909
CREATED:20170208T054226Z
LAST-MODIFIED:20220216T092848Z
UID:730-1641006660-1641024000@smk-patriawisata.sch.id
SUMMARY:Ulang Tahun Patria
DESCRIPTION:“Sekolah tidak hanya tempat belajar dan menuntut ilmu\, tapi juga menjadi tempat menempa akhlak yang baik\, tempat para generasi bangsa yang cerdas akalnya dan baik budinya”
URL:https://smk-patriawisata.sch.id/event/ulang-tahun-patria/
CATEGORIES:School
END:VEVENT
BEGIN:VEVENT
DTSTART;TZID=Asia/Jakarta:20211208T031100
DTEND;TZID=Asia/Jakarta:20211208T080000
DTSTAMP:20260425T173909
CREATED:20170203T054108Z
LAST-MODIFIED:20220223T001447Z
UID:731-1638933060-1638950400@smk-patriawisata.sch.id
SUMMARY:PKKS
DESCRIPTION:Rapat Penilian kinerja kepala sekolah\, bersama dengan pengawas wilayah Jakarta Selatan 2.
URL:https://smk-patriawisata.sch.id/event/pkks/
CATEGORIES:School
ATTACH;FMTTYPE=image/jpeg:https://smk-patriawisata.sch.id/wp-content/uploads/2017/02/even03.jpg
END:VEVENT
BEGIN:VEVENT
DTSTART;TZID=Asia/Jakarta:20211206T031100
DTEND;TZID=Asia/Jakarta:20211206T170000
DTSTAMP:20260425T173909
CREATED:20170213T024054Z
LAST-MODIFIED:20220223T171911Z
UID:728-1638760260-1638810000@smk-patriawisata.sch.id
SUMMARY:Board Meeting
DESCRIPTION:Rapat guru persiapan untuk menghadapi akreditasi sekolah
URL:https://smk-patriawisata.sch.id/event/board-meeting/
CATEGORIES:School,Ujian Bersama
END:VEVENT
END:VCALENDAR