BEGIN:VCALENDAR
VERSION:2.0
PRODID:-//SMK PATRIA WISATA - ECPv6.7.1//NONSGML v1.0//EN
CALSCALE:GREGORIAN
METHOD:PUBLISH
X-WR-CALNAME:SMK PATRIA WISATA
X-ORIGINAL-URL:https://smk-patriawisata.sch.id
X-WR-CALDESC:Events for SMK PATRIA WISATA
REFRESH-INTERVAL;VALUE=DURATION:PT1H
X-Robots-Tag:noindex
X-PUBLISHED-TTL:PT1H
BEGIN:VTIMEZONE
TZID:Asia/Jakarta
BEGIN:STANDARD
TZOFFSETFROM:+0700
TZOFFSETTO:+0700
TZNAME:WIB
DTSTART:20240101T000000
END:STANDARD
END:VTIMEZONE
BEGIN:VEVENT
DTSTART;TZID=Asia/Jakarta:20240827T080000
DTEND;TZID=Asia/Jakarta:20240830T170000
DTSTAMP:20260423T175241
CREATED:20240827T081256Z
LAST-MODIFIED:20240827T081256Z
UID:1745-1724745600-1725037200@smk-patriawisata.sch.id
SUMMARY:Praktik kuliner
DESCRIPTION:
URL:https://smk-patriawisata.sch.id/event/praktik-kuliner/
CATEGORIES:Praktikum
END:VEVENT
BEGIN:VEVENT
DTSTART;TZID=Asia/Jakarta:20240831T100000
DTEND;TZID=Asia/Jakarta:20240831T130000
DTSTAMP:20260423T175241
CREATED:20240827T162323Z
LAST-MODIFIED:20240827T163418Z
UID:1759-1725098400-1725109200@smk-patriawisata.sch.id
SUMMARY:Live Radio Sekolah on Youtube
DESCRIPTION:
URL:https://smk-patriawisata.sch.id/event/live-radio-sekolah-on-youtube/
CATEGORIES:School
END:VEVENT
BEGIN:VEVENT
DTSTART;TZID=Asia/Jakarta:20240919T080000
DTEND;TZID=Asia/Jakarta:20240919T170000
DTSTAMP:20260423T175241
CREATED:20240830T115806Z
LAST-MODIFIED:20240830T121258Z
UID:1774-1726732800-1726765200@smk-patriawisata.sch.id
SUMMARY:Literasi dan Proyek Penguatan Profil Pelajar Pancasila (P5)
DESCRIPTION:
URL:https://smk-patriawisata.sch.id/event/literasi-dan-proyek-penguatan-profil-pelajar-pancasila-p5/
CATEGORIES:Aktifitas,School
ATTACH;FMTTYPE=image/png:https://smk-patriawisata.sch.id/wp-content/uploads/2024/08/Desain-tanpa-judul-1.png
END:VEVENT
BEGIN:VEVENT
DTSTART;TZID=Asia/Jakarta:20240928T080000
DTEND;TZID=Asia/Jakarta:20240928T170000
DTSTAMP:20260423T175241
CREATED:20240827T080737Z
LAST-MODIFIED:20240926T050749Z
UID:1743-1727510400-1727542800@smk-patriawisata.sch.id
SUMMARY:Live PodCast
DESCRIPTION:
URL:https://smk-patriawisata.sch.id/event/live-podcast/
CATEGORIES:Podcast
ATTACH;FMTTYPE=image/png:https://smk-patriawisata.sch.id/wp-content/uploads/2024/08/talkshow.png
END:VEVENT
BEGIN:VEVENT
DTSTART;VALUE=DATE:20241016
DTEND;VALUE=DATE:20241017
DTSTAMP:20260423T175241
CREATED:20241009T235819Z
LAST-MODIFIED:20241010T000838Z
UID:1876-1729036800-1729123199@smk-patriawisata.sch.id
SUMMARY:Patria Membatik
DESCRIPTION:Membatik salah satu dari kerajinan tangan masyarakat Indonesia sejak zaman dahulu. Membantik umumnya adalah proses membuat gambar atau pola-pola pada kain dengan menggunakan bahan-bahan kimia. Masing-masing daerah memiliki teknik dan motif yang berbeda beda.
URL:https://smk-patriawisata.sch.id/event/patria-membatik/
CATEGORIES:Aktifitas,School
ATTACH;FMTTYPE=image/png:https://smk-patriawisata.sch.id/wp-content/uploads/2024/10/batik.png
END:VEVENT
END:VCALENDAR