BEGIN:VCALENDAR
VERSION:2.0
PRODID:-//SMK PATRIA WISATA - ECPv6.7.1//NONSGML v1.0//EN
CALSCALE:GREGORIAN
METHOD:PUBLISH
X-WR-CALNAME:SMK PATRIA WISATA
X-ORIGINAL-URL:https://smk-patriawisata.sch.id
X-WR-CALDESC:Events for SMK PATRIA WISATA
REFRESH-INTERVAL;VALUE=DURATION:PT1H
X-Robots-Tag:noindex
X-PUBLISHED-TTL:PT1H
BEGIN:VTIMEZONE
TZID:Asia/Jakarta
BEGIN:STANDARD
TZOFFSETFROM:+0700
TZOFFSETTO:+0700
TZNAME:WIB
DTSTART:20240101T000000
END:STANDARD
END:VTIMEZONE
BEGIN:VEVENT
DTSTART;TZID=Asia/Jakarta:20240928T080000
DTEND;TZID=Asia/Jakarta:20240928T170000
DTSTAMP:20260419T093317
CREATED:20240827T080737Z
LAST-MODIFIED:20240926T050749Z
UID:1743-1727510400-1727542800@smk-patriawisata.sch.id
SUMMARY:Live PodCast
DESCRIPTION:
URL:https://smk-patriawisata.sch.id/event/live-podcast/
CATEGORIES:Podcast
ATTACH;FMTTYPE=image/png:https://smk-patriawisata.sch.id/wp-content/uploads/2024/08/talkshow.png
END:VEVENT
END:VCALENDAR